Package: tRanslatome Version: 1.30.0 Command: /home/biocbuild/bbs-3.13-bioc/R/bin/R CMD build --keep-empty-dirs --no-resave-data tRanslatome StartedAt: 2021-10-14 08:36:45 -0400 (Thu, 14 Oct 2021) EndedAt: 2021-10-14 08:37:57 -0400 (Thu, 14 Oct 2021) EllapsedTime: 71.7 seconds RetCode: 0 Status: OK PackageFile: tRanslatome_1.30.0.tar.gz PackageFileSize: 821.4 KiB