Package: synergyfinder Version: 3.0.14 Command: /home/biocbuild/bbs-3.13-bioc/R/bin/R CMD INSTALL synergyfinder StartedAt: 2021-10-14 06:20:59 -0400 (Thu, 14 Oct 2021) EndedAt: 2021-10-14 06:21:04 -0400 (Thu, 14 Oct 2021) EllapsedTime: 5.2 seconds RetCode: 0 Status: OK