Package: strandCheckR Version: 1.10.0 Command: /home/biocbuild/bbs-3.13-bioc/R/bin/R CMD build --keep-empty-dirs --no-resave-data strandCheckR StartedAt: 2021-10-14 08:31:29 -0400 (Thu, 14 Oct 2021) EndedAt: 2021-10-14 08:32:21 -0400 (Thu, 14 Oct 2021) EllapsedTime: 52.2 seconds RetCode: 0 Status: OK PackageFile: strandCheckR_1.10.0.tar.gz PackageFileSize: 1.105 MiB