Package: strandCheckR Version: 1.10.0 Command: rm -rf strandCheckR.buildbin-libdir && mkdir strandCheckR.buildbin-libdir && /Users/biocbuild/BBS/utils/build-universal.sh strandCheckR_1.10.0.tar.gz /Library/Frameworks/R.framework/Versions/Current/Resources/bin/R strandCheckR.buildbin-libdir StartedAt: 2021-10-15 04:08:36 -0400 (Fri, 15 Oct 2021) EndedAt: 2021-10-15 04:09:45 -0400 (Fri, 15 Oct 2021) EllapsedTime: 69.6 seconds RetCode: 0 Status: OK PackageFile: strandCheckR_1.10.0.tgz PackageFileSize: 1.177 MiB