Package: stepNorm Version: 1.64.0 Command: /home/biocbuild/bbs-3.13-bioc/R/bin/R CMD INSTALL stepNorm StartedAt: 2021-10-14 06:06:21 -0400 (Thu, 14 Oct 2021) EndedAt: 2021-10-14 06:06:37 -0400 (Thu, 14 Oct 2021) EllapsedTime: 15.8 seconds RetCode: 0 Status: OK