Package: ssrch Version: 1.8.1 Command: rm -rf ssrch.buildbin-libdir && mkdir ssrch.buildbin-libdir && /Users/biocbuild/BBS/utils/build-universal.sh ssrch_1.8.1.tar.gz /Library/Frameworks/R.framework/Versions/Current/Resources/bin/R ssrch.buildbin-libdir StartedAt: 2021-10-15 04:07:49 -0400 (Fri, 15 Oct 2021) EndedAt: 2021-10-15 04:08:52 -0400 (Fri, 15 Oct 2021) EllapsedTime: 63.0 seconds RetCode: 0 Status: OK PackageFile: ssrch_1.8.1.tgz PackageFileSize: 1.376 MiB