Package: ssize Version: 1.66.0 Command: /home/biocbuild/bbs-3.13-bioc/R/bin/R CMD check --install=check:ssize.install-out.txt --library=/home/biocbuild/bbs-3.13-bioc/R/library --no-vignettes --timings ssize_1.66.0.tar.gz StartedAt: 2021-10-14 11:45:49 -0400 (Thu, 14 Oct 2021) EndedAt: 2021-10-14 11:46:11 -0400 (Thu, 14 Oct 2021) EllapsedTime: 21.7 seconds RetCode: 0 Status: OK CheckDir: ssize.Rcheck Warnings: 0