Package: sscu Version: 2.22.0 Command: C:\Users\biocbuild\bbs-3.13-bioc\R\bin\R.exe CMD check --force-multiarch --install=check:sscu.install-out.txt --library=C:\Users\biocbuild\bbs-3.13-bioc\R\library --no-vignettes --timings sscu_2.22.0.tar.gz StartedAt: 2021-10-15 06:12:20 -0400 (Fri, 15 Oct 2021) EndedAt: 2021-10-15 06:15:08 -0400 (Fri, 15 Oct 2021) EllapsedTime: 168.3 seconds RetCode: 0 Status: WARNINGS CheckDir: sscu.Rcheck Warnings: 1