Package: splots Version: 1.58.0 Command: /home/biocbuild/bbs-3.13-bioc/R/bin/R CMD build --keep-empty-dirs --no-resave-data splots StartedAt: 2021-10-14 08:30:00 -0400 (Thu, 14 Oct 2021) EndedAt: 2021-10-14 08:31:34 -0400 (Thu, 14 Oct 2021) EllapsedTime: 93.5 seconds RetCode: 0 Status: OK PackageFile: splots_1.58.0.tar.gz PackageFileSize: 378.7 KiB