Package: snifter Version: 1.2.0 Command: chmod a+r snifter -R && C:\Users\biocbuild\bbs-3.13-bioc\R\bin\R.exe --arch x64 CMD build --keep-empty-dirs --no-resave-data snifter StartedAt: 2021-10-14 18:25:43 -0400 (Thu, 14 Oct 2021) EndedAt: 2021-10-14 18:29:04 -0400 (Thu, 14 Oct 2021) EllapsedTime: 201.2 seconds RetCode: 0 Status: OK PackageFile: snifter_1.2.0.tar.gz PackageFileSize: 539.2 KiB