Package: snifter Version: 1.2.0 Command: /home/biocbuild/bbs-3.13-bioc/R/bin/R CMD build --keep-empty-dirs --no-resave-data snifter StartedAt: 2021-10-14 08:28:07 -0400 (Thu, 14 Oct 2021) EndedAt: 2021-10-14 08:30:26 -0400 (Thu, 14 Oct 2021) EllapsedTime: 139.0 seconds RetCode: 0 Status: OK PackageFile: snifter_1.2.0.tar.gz PackageFileSize: 871 KiB