Package: skewr Version: 1.24.0 Command: chmod a+r skewr -R && C:\Users\biocbuild\bbs-3.13-bioc\R\bin\R.exe CMD build --keep-empty-dirs --no-resave-data skewr StartedAt: 2021-10-14 18:23:14 -0400 (Thu, 14 Oct 2021) EndedAt: 2021-10-14 18:26:20 -0400 (Thu, 14 Oct 2021) EllapsedTime: 186.1 seconds RetCode: 0 Status: OK PackageFile: skewr_1.24.0.tar.gz PackageFileSize: 378.5 KiB