Package: sevenbridges Version: 1.22.0 Command: /home/biocbuild/bbs-3.13-bioc/R/bin/R CMD build --keep-empty-dirs --no-resave-data sevenbridges StartedAt: 2021-10-14 08:24:55 -0400 (Thu, 14 Oct 2021) EndedAt: 2021-10-14 08:26:15 -0400 (Thu, 14 Oct 2021) EllapsedTime: 79.7 seconds RetCode: 0 Status: OK PackageFile: sevenbridges_1.22.0.tar.gz PackageFileSize: 4.569 MiB