Package: scater Version: 1.20.1 Command: rm -rf scater.buildbin-libdir && mkdir scater.buildbin-libdir && /Users/biocbuild/BBS/utils/build-universal.sh scater_1.20.1.tar.gz /Library/Frameworks/R.framework/Versions/Current/Resources/bin/R scater.buildbin-libdir StartedAt: 2021-10-15 03:53:16 -0400 (Fri, 15 Oct 2021) EndedAt: 2021-10-15 03:54:20 -0400 (Fri, 15 Oct 2021) EllapsedTime: 63.7 seconds RetCode: 0 Status: OK PackageFile: scater_1.20.1.tgz PackageFileSize: 4.146 MiB