git_url: https://git.bioconductor.org/packages/scHOT git_branch: RELEASE_3_13 git_last_commit: 55a2ef4 git_last_commit_date: 2021-05-19 12:51:20 -0400 (Wed, 19 May 2021) Package: scHOT Version: 1.4.0 Maintainer: Shila Ghazanfar MaintainerEmail: shazanfar at gmail.com