Package: scClassifR Version: 1.0.0 Command: /home/biocbuild/bbs-3.13-bioc/R/bin/R CMD INSTALL scClassifR StartedAt: 2021-10-14 06:35:09 -0400 (Thu, 14 Oct 2021) EndedAt: 2021-10-14 06:35:53 -0400 (Thu, 14 Oct 2021) EllapsedTime: 44.6 seconds RetCode: 0 Status: OK