Package: scClassifR Version: 1.0.0 Command: /home/biocbuild/bbs-3.13-bioc/R/bin/R CMD check --install=check:scClassifR.install-out.txt --library=/home/biocbuild/bbs-3.13-bioc/R/library --no-vignettes --timings scClassifR_1.0.0.tar.gz StartedAt: 2021-10-14 11:29:16 -0400 (Thu, 14 Oct 2021) EndedAt: 2021-10-14 11:34:01 -0400 (Thu, 14 Oct 2021) EllapsedTime: 284.3 seconds RetCode: 0 Status: WARNINGS CheckDir: scClassifR.Rcheck Warnings: 1