Package: scClassifR Version: 1.0.0 Command: /Library/Frameworks/R.framework/Versions/Current/Resources/bin/R CMD INSTALL scClassifR StartedAt: 2021-10-14 10:22:32 -0400 (Thu, 14 Oct 2021) EndedAt: 2021-10-14 10:23:33 -0400 (Thu, 14 Oct 2021) EllapsedTime: 60.9 seconds RetCode: 0 Status: OK