Package: scClassifR Version: 1.0.0 Command: rm -rf scClassifR.buildbin-libdir && mkdir scClassifR.buildbin-libdir && /Users/biocbuild/BBS/utils/build-universal.sh scClassifR_1.0.0.tar.gz /Library/Frameworks/R.framework/Versions/Current/Resources/bin/R scClassifR.buildbin-libdir StartedAt: 2021-10-15 03:53:38 -0400 (Fri, 15 Oct 2021) EndedAt: 2021-10-15 03:54:41 -0400 (Fri, 15 Oct 2021) EllapsedTime: 63.4 seconds RetCode: 0 Status: OK PackageFile: scClassifR_1.0.0.tgz PackageFileSize: 18.92 MiB