Package: rsemmed Version: 1.2.0 Command: chmod a+r rsemmed -R && C:\Users\biocbuild\bbs-3.13-bioc\R\bin\R.exe CMD build --keep-empty-dirs --no-resave-data rsemmed StartedAt: 2021-10-14 17:48:33 -0400 (Thu, 14 Oct 2021) EndedAt: 2021-10-14 17:49:27 -0400 (Thu, 14 Oct 2021) EllapsedTime: 53.8 seconds RetCode: 0 Status: OK PackageFile: rsemmed_1.2.0.tar.gz PackageFileSize: 1.735 MiB