Package: rsbml Version: 2.50.0 Command: /home/biocbuild/bbs-3.13-bioc/R/bin/R CMD build --keep-empty-dirs --no-resave-data rsbml StartedAt: 2021-10-14 08:16:17 -0400 (Thu, 14 Oct 2021) EndedAt: 2021-10-14 08:16:35 -0400 (Thu, 14 Oct 2021) EllapsedTime: 18.4 seconds RetCode: 0 Status: OK PackageFile: rsbml_2.50.0.tar.gz PackageFileSize: 600.8 KiB