Package: rmelting Version: 1.8.0 Command: rm -rf rmelting.buildbin-libdir && mkdir rmelting.buildbin-libdir && /Users/biocbuild/BBS/utils/build-universal.sh rmelting_1.8.0.tar.gz /Library/Frameworks/R.framework/Versions/Current/Resources/bin/R rmelting.buildbin-libdir StartedAt: 2021-10-15 03:46:06 -0400 (Fri, 15 Oct 2021) EndedAt: 2021-10-15 03:46:55 -0400 (Fri, 15 Oct 2021) EllapsedTime: 49.5 seconds RetCode: 0 Status: OK PackageFile: rmelting_1.8.0.tgz PackageFileSize: 3.007 MiB