Package: recountmethylation Version: 1.2.3 Command: C:\cygwin\bin\curl.exe -O http://155.52.207.165/BBS/3.13/bioc/src/contrib/recountmethylation_1.2.3.tar.gz && rm -rf recountmethylation.buildbin-libdir && mkdir recountmethylation.buildbin-libdir && C:\Users\biocbuild\bbs-3.13-bioc\R\bin\R.exe CMD INSTALL --merge-multiarch --build --library=recountmethylation.buildbin-libdir recountmethylation_1.2.3.tar.gz && C:\Users\biocbuild\bbs-3.13-bioc\R\bin\R.exe CMD INSTALL recountmethylation_1.2.3.zip && rm recountmethylation_1.2.3.tar.gz recountmethylation_1.2.3.zip StartedAt: 2021-10-14 10:20:32 -0400 (Thu, 14 Oct 2021) EndedAt: 2021-10-14 10:21:01 -0400 (Thu, 14 Oct 2021) EllapsedTime: 28.8 seconds RetCode: 0 Status: OK