Package: recountmethylation Version: 1.2.3 Command: C:\Users\biocbuild\bbs-3.13-bioc\R\bin\R.exe CMD check --force-multiarch --install=check:recountmethylation.install-out.txt --library=C:\Users\biocbuild\bbs-3.13-bioc\R\library --no-vignettes --timings recountmethylation_1.2.3.tar.gz StartedAt: 2021-10-15 04:17:04 -0400 (Fri, 15 Oct 2021) EndedAt: 2021-10-15 04:19:31 -0400 (Fri, 15 Oct 2021) EllapsedTime: 146.1 seconds RetCode: 0 Status: OK CheckDir: recountmethylation.Rcheck Warnings: 0