Package: recountmethylation Version: 1.2.3 Command: rm -rf recountmethylation.buildbin-libdir && mkdir recountmethylation.buildbin-libdir && C:\Users\biocbuild\bbs-3.13-bioc\R\bin\R.exe CMD INSTALL --merge-multiarch --build --library=recountmethylation.buildbin-libdir recountmethylation_1.2.3.tar.gz StartedAt: 2021-10-15 11:19:14 -0400 (Fri, 15 Oct 2021) EndedAt: 2021-10-15 11:20:48 -0400 (Fri, 15 Oct 2021) EllapsedTime: 94.0 seconds RetCode: 0 Status: OK PackageFile: recountmethylation_1.2.3.zip PackageFileSize: 4.264 MiB