Package: rTRM Version: 1.30.0 Command: /home/biocbuild/bbs-3.13-bioc/R/bin/R CMD build --keep-empty-dirs --no-resave-data rTRM StartedAt: 2021-10-14 08:17:21 -0400 (Thu, 14 Oct 2021) EndedAt: 2021-10-14 08:18:05 -0400 (Thu, 14 Oct 2021) EllapsedTime: 44.1 seconds RetCode: 0 Status: OK PackageFile: rTRM_1.30.0.tar.gz PackageFileSize: 3.169 MiB