Package: rCGH Version: 1.22.0 Command: /home/biocbuild/bbs-3.13-bioc/R/bin/R CMD build --keep-empty-dirs --no-resave-data rCGH StartedAt: 2021-10-14 08:09:11 -0400 (Thu, 14 Oct 2021) EndedAt: 2021-10-14 08:10:23 -0400 (Thu, 14 Oct 2021) EllapsedTime: 72.6 seconds RetCode: 0 Status: OK PackageFile: rCGH_1.22.0.tar.gz PackageFileSize: 3.959 MiB