Package: rCGH Version: 1.22.0 Command: rm -rf rCGH.buildbin-libdir && mkdir rCGH.buildbin-libdir && /Users/biocbuild/BBS/utils/build-universal.sh rCGH_1.22.0.tar.gz /Library/Frameworks/R.framework/Versions/Current/Resources/bin/R rCGH.buildbin-libdir StartedAt: 2021-10-15 03:39:37 -0400 (Fri, 15 Oct 2021) EndedAt: 2021-10-15 03:40:30 -0400 (Fri, 15 Oct 2021) EllapsedTime: 53.3 seconds RetCode: 0 Status: OK PackageFile: rCGH_1.22.0.tgz PackageFileSize: 4.975 MiB