Package: pwOmics Version: 1.24.0 Command: /home/biocbuild/bbs-3.13-bioc/R/bin/R CMD build --keep-empty-dirs --no-resave-data pwOmics StartedAt: 2021-10-14 08:05:47 -0400 (Thu, 14 Oct 2021) EndedAt: 2021-10-14 08:05:48 -0400 (Thu, 14 Oct 2021) EllapsedTime: 0.9 seconds RetCode: 0 Status: OK PackageFile: pwOmics_1.24.0.tar.gz PackageFileSize: 882.5 KiB