Package: ppcseq Version: 1.0.0 Command: /home/biocbuild/bbs-3.13-bioc/R/bin/R CMD INSTALL ppcseq StartedAt: 2021-10-14 06:16:49 -0400 (Thu, 14 Oct 2021) EndedAt: 2021-10-14 06:18:55 -0400 (Thu, 14 Oct 2021) EllapsedTime: 126.5 seconds RetCode: 0 Status: OK