Package: phenopath Version: 1.16.0 Command: chmod a+r phenopath -R && C:\Users\biocbuild\bbs-3.13-bioc\R\bin\R.exe CMD build --keep-empty-dirs --no-resave-data phenopath StartedAt: 2021-10-14 16:53:05 -0400 (Thu, 14 Oct 2021) EndedAt: 2021-10-14 16:54:43 -0400 (Thu, 14 Oct 2021) EllapsedTime: 97.9 seconds RetCode: 0 Status: OK PackageFile: phenopath_1.16.0.tar.gz PackageFileSize: 1.097 MiB