Package: phemd Version: 1.8.0 Command: C:\Users\biocbuild\bbs-3.13-bioc\R\bin\R.exe CMD check --force-multiarch --install=check:phemd.install-out.txt --library=C:\Users\biocbuild\bbs-3.13-bioc\R\library --no-vignettes --timings phemd_1.8.0.tar.gz StartedAt: 2021-10-15 03:19:33 -0400 (Fri, 15 Oct 2021) EndedAt: 2021-10-15 03:29:17 -0400 (Fri, 15 Oct 2021) EllapsedTime: 584.1 seconds RetCode: 0 Status: OK CheckDir: phemd.Rcheck Warnings: 0