Package: phemd Version: 1.8.0 Command: rm -rf phemd.buildbin-libdir && mkdir phemd.buildbin-libdir && C:\Users\biocbuild\bbs-3.13-bioc\R\bin\R.exe CMD INSTALL --merge-multiarch --build --library=phemd.buildbin-libdir phemd_1.8.0.tar.gz StartedAt: 2021-10-15 10:57:04 -0400 (Fri, 15 Oct 2021) EndedAt: 2021-10-15 10:58:19 -0400 (Fri, 15 Oct 2021) EllapsedTime: 75.2 seconds RetCode: 0 Status: OK PackageFile: phemd_1.8.0.zip PackageFileSize: 1.149 MiB