git_url: https://git.bioconductor.org/packages/perturbatr git_branch: RELEASE_3_13 git_last_commit: 43f04ea git_last_commit_date: 2021-05-19 12:34:10 -0400 (Wed, 19 May 2021) Package: perturbatr Version: 1.12.0 Maintainer: Simon Dirmeier MaintainerEmail: simon.dirmeier at web.de