Package: peco Version: 1.4.0 Command: C:\cygwin\bin\curl.exe -O http://155.52.207.165/BBS/3.13/bioc/src/contrib/peco_1.4.0.tar.gz && rm -rf peco.buildbin-libdir && mkdir peco.buildbin-libdir && C:\Users\biocbuild\bbs-3.13-bioc\R\bin\R.exe CMD INSTALL --merge-multiarch --build --library=peco.buildbin-libdir peco_1.4.0.tar.gz && C:\Users\biocbuild\bbs-3.13-bioc\R\bin\R.exe CMD INSTALL peco_1.4.0.zip && rm peco_1.4.0.tar.gz peco_1.4.0.zip StartedAt: 2021-10-14 09:18:29 -0400 (Thu, 14 Oct 2021) EndedAt: 2021-10-14 09:19:18 -0400 (Thu, 14 Oct 2021) EllapsedTime: 48.9 seconds RetCode: 0 Status: OK