Package: peco Version: 1.4.0 Command: rm -rf peco.buildbin-libdir && mkdir peco.buildbin-libdir && C:\Users\biocbuild\bbs-3.13-bioc\R\bin\R.exe CMD INSTALL --merge-multiarch --build --library=peco.buildbin-libdir peco_1.4.0.tar.gz StartedAt: 2021-10-15 10:55:26 -0400 (Fri, 15 Oct 2021) EndedAt: 2021-10-15 10:56:48 -0400 (Fri, 15 Oct 2021) EllapsedTime: 81.5 seconds RetCode: 0 Status: OK PackageFile: peco_1.4.0.zip PackageFileSize: 1.144 MiB