Package: parglms Version: 1.24.1 Command: C:\cygwin\bin\curl.exe -O http://155.52.207.165/BBS/3.13/bioc/src/contrib/parglms_1.24.1.tar.gz && rm -rf parglms.buildbin-libdir && mkdir parglms.buildbin-libdir && C:\Users\biocbuild\bbs-3.13-bioc\R\bin\R.exe CMD INSTALL --merge-multiarch --build --library=parglms.buildbin-libdir parglms_1.24.1.tar.gz && C:\Users\biocbuild\bbs-3.13-bioc\R\bin\R.exe CMD INSTALL parglms_1.24.1.zip && rm parglms_1.24.1.tar.gz parglms_1.24.1.zip StartedAt: 2021-10-14 08:02:26 -0400 (Thu, 14 Oct 2021) EndedAt: 2021-10-14 08:02:54 -0400 (Thu, 14 Oct 2021) EllapsedTime: 28.8 seconds RetCode: 0 Status: OK