Package: pRoloc Version: 1.32.0 Command: /home/biocbuild/bbs-3.13-bioc/R/bin/R CMD check --install=check:pRoloc.install-out.txt --library=/home/biocbuild/bbs-3.13-bioc/R/library --no-vignettes --timings pRoloc_1.32.0.tar.gz StartedAt: 2021-10-14 11:07:28 -0400 (Thu, 14 Oct 2021) EndedAt: 2021-10-14 11:16:24 -0400 (Thu, 14 Oct 2021) EllapsedTime: 536.7 seconds RetCode: 0 Status: OK CheckDir: pRoloc.Rcheck Warnings: 0