Package: nondetects Version: 2.22.0 Command: /Library/Frameworks/R.framework/Versions/Current/Resources/bin/R CMD check --install=check:nondetects.install-out.txt --library=/Library/Frameworks/R.framework/Versions/Current/Resources/library --no-vignettes --timings nondetects_2.22.0.tar.gz StartedAt: 2021-10-14 21:47:48 -0400 (Thu, 14 Oct 2021) EndedAt: 2021-10-14 21:58:31 -0400 (Thu, 14 Oct 2021) EllapsedTime: 643.0 seconds RetCode: 0 Status: OK CheckDir: nondetects.Rcheck Warnings: 0