Package: nondetects Version: 2.22.0 Command: rm -rf nondetects.buildbin-libdir && mkdir nondetects.buildbin-libdir && /Users/biocbuild/BBS/utils/build-universal.sh nondetects_2.22.0.tar.gz /Library/Frameworks/R.framework/Versions/Current/Resources/bin/R nondetects.buildbin-libdir StartedAt: 2021-10-15 03:18:37 -0400 (Fri, 15 Oct 2021) EndedAt: 2021-10-15 03:19:41 -0400 (Fri, 15 Oct 2021) EllapsedTime: 64.3 seconds RetCode: 0 Status: OK PackageFile: nondetects_2.22.0.tgz PackageFileSize: 156.8 KiB