Package: netbiov Version: 1.26.0 Command: chmod a+r netbiov -R && C:\Users\biocbuild\bbs-3.13-bioc\R\bin\R.exe CMD build --keep-empty-dirs --no-resave-data netbiov StartedAt: 2021-10-14 16:07:26 -0400 (Thu, 14 Oct 2021) EndedAt: 2021-10-14 16:11:48 -0400 (Thu, 14 Oct 2021) EllapsedTime: 261.9 seconds RetCode: 0 Status: OK PackageFile: netbiov_1.26.0.tar.gz PackageFileSize: 9.177 MiB