Package: mpra Version: 1.14.0 Command: /Library/Frameworks/R.framework/Versions/Current/Resources/bin/R CMD INSTALL mpra StartedAt: 2021-10-14 09:16:27 -0400 (Thu, 14 Oct 2021) EndedAt: 2021-10-14 09:17:21 -0400 (Thu, 14 Oct 2021) EllapsedTime: 54.1 seconds RetCode: 0 Status: OK