Package: miRNApath Version: 1.52.0 Command: /home/biocbuild/bbs-3.13-bioc/R/bin/R CMD INSTALL miRNApath StartedAt: 2021-10-14 06:03:26 -0400 (Thu, 14 Oct 2021) EndedAt: 2021-10-14 06:03:45 -0400 (Thu, 14 Oct 2021) EllapsedTime: 19.5 seconds RetCode: 0 Status: OK