Package: miRNApath Version: 1.52.0 Command: /home/biocbuild/bbs-3.13-bioc/R/bin/R CMD check --install=check:miRNApath.install-out.txt --library=/home/biocbuild/bbs-3.13-bioc/R/library --no-vignettes --timings miRNApath_1.52.0.tar.gz StartedAt: 2021-10-14 10:38:01 -0400 (Thu, 14 Oct 2021) EndedAt: 2021-10-14 10:38:42 -0400 (Thu, 14 Oct 2021) EllapsedTime: 41.9 seconds RetCode: 0 Status: OK CheckDir: miRNApath.Rcheck Warnings: 0