Package: mgsa Version: 1.40.0 Command: rm -rf mgsa.buildbin-libdir && mkdir mgsa.buildbin-libdir && /Users/biocbuild/BBS/utils/build-universal.sh mgsa_1.40.0.tar.gz /Library/Frameworks/R.framework/Versions/Current/Resources/bin/R mgsa.buildbin-libdir StartedAt: 2021-10-15 03:05:40 -0400 (Fri, 15 Oct 2021) EndedAt: 2021-10-15 03:06:50 -0400 (Fri, 15 Oct 2021) EllapsedTime: 69.9 seconds RetCode: 0 Status: OK PackageFile: mgsa_1.40.0.tgz PackageFileSize: 494.5 KiB