Package: methylMnM Version: 1.30.0 Command: /home/biocbuild/bbs-3.13-bioc/R/bin/R CMD check --install=check:methylMnM.install-out.txt --library=/home/biocbuild/bbs-3.13-bioc/R/library --no-vignettes --timings methylMnM_1.30.0.tar.gz StartedAt: 2021-10-14 10:33:09 -0400 (Thu, 14 Oct 2021) EndedAt: 2021-10-14 10:33:39 -0400 (Thu, 14 Oct 2021) EllapsedTime: 30.3 seconds RetCode: 0 Status: OK CheckDir: methylMnM.Rcheck Warnings: 0