Package: methyAnalysis Version: 1.34.0 Command: /home/biocbuild/bbs-3.13-bioc/R/bin/R CMD build --keep-empty-dirs --no-resave-data methyAnalysis StartedAt: 2021-10-14 07:42:13 -0400 (Thu, 14 Oct 2021) EndedAt: 2021-10-14 07:44:35 -0400 (Thu, 14 Oct 2021) EllapsedTime: 141.5 seconds RetCode: 0 Status: OK PackageFile: methyAnalysis_1.34.0.tar.gz PackageFileSize: 1.284 MiB