Package: mapscape Version: 1.16.0 Command: C:\cygwin\bin\curl.exe -O http://155.52.207.165/BBS/3.13/bioc/src/contrib/mapscape_1.16.0.tar.gz && rm -rf mapscape.buildbin-libdir && mkdir mapscape.buildbin-libdir && C:\Users\biocbuild\bbs-3.13-bioc\R\bin\R.exe CMD INSTALL --merge-multiarch --build --library=mapscape.buildbin-libdir mapscape_1.16.0.tar.gz && C:\Users\biocbuild\bbs-3.13-bioc\R\bin\R.exe CMD INSTALL mapscape_1.16.0.zip && rm mapscape_1.16.0.tar.gz mapscape_1.16.0.zip StartedAt: 2021-10-14 08:01:51 -0400 (Thu, 14 Oct 2021) EndedAt: 2021-10-14 08:02:40 -0400 (Thu, 14 Oct 2021) EllapsedTime: 48.7 seconds RetCode: 0 Status: OK