Package: mapscape Version: 1.16.0 Command: /Library/Frameworks/R.framework/Versions/Current/Resources/bin/R CMD check --install=check:mapscape.install-out.txt --library=/Library/Frameworks/R.framework/Versions/Current/Resources/library --no-vignettes --timings mapscape_1.16.0.tar.gz StartedAt: 2021-10-14 20:39:11 -0400 (Thu, 14 Oct 2021) EndedAt: 2021-10-14 20:39:40 -0400 (Thu, 14 Oct 2021) EllapsedTime: 28.5 seconds RetCode: 0 Status: WARNINGS CheckDir: mapscape.Rcheck Warnings: 1