Package: made4 Version: 1.66.0 Command: /Library/Frameworks/R.framework/Versions/Current/Resources/bin/R CMD check --install=check:made4.install-out.txt --library=/Library/Frameworks/R.framework/Versions/Current/Resources/library --no-vignettes --timings made4_1.66.0.tar.gz StartedAt: 2021-10-14 20:36:22 -0400 (Thu, 14 Oct 2021) EndedAt: 2021-10-14 20:39:23 -0400 (Thu, 14 Oct 2021) EllapsedTime: 181.1 seconds RetCode: 0 Status: OK CheckDir: made4.Rcheck Warnings: 0